BEGIN:VCALENDAR
VERSION:2.0
PRODID:-//Yii2 Events//EN
BEGIN:VEVENT
UID:69ec1c111e84a@www.izobrazevanje-je-svobodno.eventure.si
DTSTAMP:20260425T014241Z
DTSTART:20260427T180000
DTEND:20260427T190000
SUMMARY:Spoznajte platformo Eventure.si - večerna delavnica
DESCRIPTION:Večerna 2-urna delavnica s predstavitvijo\, demo v živo in pomočjo pri prvem koraku.
LOCATION:Spletni događaj (Meet)
URL:https://www.izobrazevanje-je-svobodno.eventure.si/hr/event/spoznajte-platformo-eventure-vecerna-delavnica-2026-05
END:VEVENT
END:VCALENDAR
